BEGIN:VCALENDAR
VERSION:2.0
PRODID:-//Startup Agenda - ECPv6.15.20//NONSGML v1.0//EN
CALSCALE:GREGORIAN
METHOD:PUBLISH
X-ORIGINAL-URL:https://www.startupagenda.nl
X-WR-CALDESC:Events for Startup Agenda
REFRESH-INTERVAL;VALUE=DURATION:PT1H
X-Robots-Tag:noindex
X-PUBLISHED-TTL:PT1H
BEGIN:VTIMEZONE
TZID:Europe/Amsterdam
BEGIN:DAYLIGHT
TZOFFSETFROM:+0100
TZOFFSETTO:+0200
TZNAME:CEST
DTSTART:20210328T010000
END:DAYLIGHT
BEGIN:STANDARD
TZOFFSETFROM:+0200
TZOFFSETTO:+0100
TZNAME:CET
DTSTART:20211031T010000
END:STANDARD
BEGIN:DAYLIGHT
TZOFFSETFROM:+0100
TZOFFSETTO:+0200
TZNAME:CEST
DTSTART:20220327T010000
END:DAYLIGHT
BEGIN:STANDARD
TZOFFSETFROM:+0200
TZOFFSETTO:+0100
TZNAME:CET
DTSTART:20221030T010000
END:STANDARD
BEGIN:DAYLIGHT
TZOFFSETFROM:+0100
TZOFFSETTO:+0200
TZNAME:CEST
DTSTART:20230326T010000
END:DAYLIGHT
BEGIN:STANDARD
TZOFFSETFROM:+0200
TZOFFSETTO:+0100
TZNAME:CET
DTSTART:20231029T010000
END:STANDARD
END:VTIMEZONE
BEGIN:VTIMEZONE
TZID:Europe/Paris
BEGIN:DAYLIGHT
TZOFFSETFROM:+0100
TZOFFSETTO:+0200
TZNAME:CEST
DTSTART:20210328T010000
END:DAYLIGHT
BEGIN:STANDARD
TZOFFSETFROM:+0200
TZOFFSETTO:+0100
TZNAME:CET
DTSTART:20211031T010000
END:STANDARD
BEGIN:DAYLIGHT
TZOFFSETFROM:+0100
TZOFFSETTO:+0200
TZNAME:CEST
DTSTART:20220327T010000
END:DAYLIGHT
BEGIN:STANDARD
TZOFFSETFROM:+0200
TZOFFSETTO:+0100
TZNAME:CET
DTSTART:20221030T010000
END:STANDARD
BEGIN:DAYLIGHT
TZOFFSETFROM:+0100
TZOFFSETTO:+0200
TZNAME:CEST
DTSTART:20230326T010000
END:DAYLIGHT
BEGIN:STANDARD
TZOFFSETFROM:+0200
TZOFFSETTO:+0100
TZNAME:CET
DTSTART:20231029T010000
END:STANDARD
END:VTIMEZONE
BEGIN:VTIMEZONE
TZID:Europe/Brussels
BEGIN:DAYLIGHT
TZOFFSETFROM:+0100
TZOFFSETTO:+0200
TZNAME:CEST
DTSTART:20210328T010000
END:DAYLIGHT
BEGIN:STANDARD
TZOFFSETFROM:+0200
TZOFFSETTO:+0100
TZNAME:CET
DTSTART:20211031T010000
END:STANDARD
BEGIN:DAYLIGHT
TZOFFSETFROM:+0100
TZOFFSETTO:+0200
TZNAME:CEST
DTSTART:20220327T010000
END:DAYLIGHT
BEGIN:STANDARD
TZOFFSETFROM:+0200
TZOFFSETTO:+0100
TZNAME:CET
DTSTART:20221030T010000
END:STANDARD
BEGIN:DAYLIGHT
TZOFFSETFROM:+0100
TZOFFSETTO:+0200
TZNAME:CEST
DTSTART:20230326T010000
END:DAYLIGHT
BEGIN:STANDARD
TZOFFSETFROM:+0200
TZOFFSETTO:+0100
TZNAME:CET
DTSTART:20231029T010000
END:STANDARD
END:VTIMEZONE
BEGIN:VEVENT
DTSTART;TZID=Europe/Amsterdam:20220315T160000
DTEND;TZID=Europe/Amsterdam:20220315T190000
DTSTAMP:20260423T120649
CREATED:20220314T090213Z
LAST-MODIFIED:20220328T123709Z
UID:6990-1647360000-1647370800@www.startupagenda.nl
SUMMARY:Customer Discovery Program for Early Stage Startups
DESCRIPTION:Do you want to take your startup (idea) to the next level? Are you willing to make a commitment to a fixed program with fixed dates and associated activities? Then sign up for the Customer Discovery Program free of charge! Register now for the April edition! \nIn three sessions (12\, 19\, 21 April)\, a varied approach with theory\, experiments and lively group discussions will learn you what it means to build a startup and how to validate your startup(idea). You will gain insight into your own entrepreneurial skills and develop your entrepreneurial vision. The program is provided by experts in the Brabant startup ecosystem. \nRegister here  \nDates: 12\, 19\, 21 April \nTime: 18h-21h \nLocation: Claudius Prinsenlaan 12\, Breda
URL:https://www.startupagenda.nl/event/customer-discovery-program-2/
LOCATION:B’wise\, Claudius Prinsenlaan 12\, Breda\, 4811 DJ\, Netherlands
CATEGORIES:Live Events,Workshops
ATTACH;FMTTYPE=image/png:https://www.startupagenda.nl/wp-content/uploads/2022/03/Screenshot-2022-03-14-at-10.55.52.png
END:VEVENT
BEGIN:VEVENT
DTSTART;TZID=Europe/Paris:20220318T110000
DTEND;TZID=Europe/Paris:20220318T130000
DTSTAMP:20260423T120649
CREATED:20220218T150117Z
LAST-MODIFIED:20220218T150117Z
UID:6706-1647601200-1647608400@www.startupagenda.nl
SUMMARY:Business Brunch Den Bosch
DESCRIPTION:Kom netwerken met like-minded ondernemers! \nDe Lifestyle Business Club is een community van ruim 9\,500 lifestyle ondernemers welke (inter)nationaal wordt opgezet. Doel van onze lunches is om ondernemers te connecten\, te inspireren en aanmoedigen om samenwerkingen aan te gaan. \nTijdens deze ochtend zal iedere aanwezige de ruimte krijgen zichzelf voor te stellen. \nDeelname € 30 ex BTW inclusief brunch +2 consumpties en een leuke attentie. \nMembers betalen € 25 ex BTW \nDeze kosten kunt u als zakelijke kosten binnen uw boekhouding opvoeren en zijn derhalve fiscaal aftrekbaar. \nJe kunt als niet member 2x deelnemen aan onze netwerk evenementen. \nMembership kun je online aanvragen via www.lifestylebusinessclub.nl/word-member en krijg je korting op volgende evenementen en toegang tot het netwerk. \nVoor het gehele overzicht van evenementen van de Lifestyle Business Club: www.lifestylebusinessclub.nl/agenda
URL:https://www.startupagenda.nl/event/business-brunch-den-bosch/
LOCATION:De Garage\, Parklaan 27G\, 's-Hertogenbosch\, 5211 JL\, Netherlands
CATEGORIES:Event with Tickets,Live Events
ATTACH;FMTTYPE=image/png:https://www.startupagenda.nl/wp-content/uploads/2022/02/Screenshot-2022-02-18-at-16.57.30.png
END:VEVENT
BEGIN:VEVENT
DTSTART;TZID=Europe/Amsterdam:20220315T160000
DTEND;TZID=Europe/Amsterdam:20220315T190000
DTSTAMP:20260423T120649
CREATED:20220314T090213Z
LAST-MODIFIED:20220328T123709Z
UID:6990-1647360000-1647370800@www.startupagenda.nl
SUMMARY:Customer Discovery Program for Early Stage Startups
DESCRIPTION:Do you want to take your startup (idea) to the next level? Are you willing to make a commitment to a fixed program with fixed dates and associated activities? Then sign up for the Customer Discovery Program free of charge! Register now for the April edition! \nIn three sessions (12\, 19\, 21 April)\, a varied approach with theory\, experiments and lively group discussions will learn you what it means to build a startup and how to validate your startup(idea). You will gain insight into your own entrepreneurial skills and develop your entrepreneurial vision. The program is provided by experts in the Brabant startup ecosystem. \nRegister here  \nDates: 12\, 19\, 21 April \nTime: 18h-21h \nLocation: Claudius Prinsenlaan 12\, Breda
URL:https://www.startupagenda.nl/event/customer-discovery-program-2/
LOCATION:B’wise\, Claudius Prinsenlaan 12\, Breda\, 4811 DJ\, Netherlands
CATEGORIES:Live Events,Workshops
ATTACH;FMTTYPE=image/png:https://www.startupagenda.nl/wp-content/uploads/2022/03/Screenshot-2022-03-14-at-10.55.52.png
END:VEVENT
BEGIN:VEVENT
DTSTART;TZID=Europe/Paris:20220317T153000
DTEND;TZID=Europe/Paris:20220317T161500
DTSTAMP:20260423T120649
CREATED:20220223T130151Z
LAST-MODIFIED:20220228T131347Z
UID:6785-1647531000-1647533700@www.startupagenda.nl
SUMMARY:Venture Visionaries
DESCRIPTION:Venture Visionaries\nTogether with Avans\, Buas\, Fontys\, HAS\, JADS\, TU/e\, Station88 and Braventure\, we present a series of events where inspiring entrepreneurial topics are discussed and interesting companies\, founded by Dutch Entrepreneurs\, will be interviewed. \nFor this edition we have invited Steven Nelemans. Steven is a serial entrepreneur but started as a TU/e student. He soon discovered his love for tech innovations and startups and Co-founded the electric car sharing service Amber. One of the most successful e-car sharing companies in the Netherlands. \nCurrently\, Steven is Founder of Tactic\, a digital agency. He also is Venture Advisor with Lumo Labs VC and involved with setting up RoundOne Ventures\, Brabant’s first student VC. A few months ago Steven founded a new startup Luna\, a B2B sales automation platform. \nJoin this interactive session\, ask questions and learn how to start 3 companies and become an investor before reaching 30! \nEvent is on-site: Station88\, Tilburg \nLimited seats available: Pre-register now
URL:https://www.startupagenda.nl/event/venture-visionaries/
LOCATION:Station 88\, Burgemeester Brokxlaan 12\, Tilburg\, 5041 SB\, Netherlands
CATEGORIES:Live Events,Online Events
ATTACH;FMTTYPE=image/png:https://www.startupagenda.nl/wp-content/uploads/2022/02/Venture-Visionaries-2.png
ORGANIZER;CN="JADS Playground":MAILTO:playground@jads.nl
END:VEVENT
BEGIN:VEVENT
DTSTART;TZID=Europe/Amsterdam:20220315T160000
DTEND;TZID=Europe/Amsterdam:20220315T190000
DTSTAMP:20260423T120649
CREATED:20220314T090213Z
LAST-MODIFIED:20220328T123709Z
UID:6990-1647360000-1647370800@www.startupagenda.nl
SUMMARY:Customer Discovery Program for Early Stage Startups
DESCRIPTION:Do you want to take your startup (idea) to the next level? Are you willing to make a commitment to a fixed program with fixed dates and associated activities? Then sign up for the Customer Discovery Program free of charge! Register now for the April edition! \nIn three sessions (12\, 19\, 21 April)\, a varied approach with theory\, experiments and lively group discussions will learn you what it means to build a startup and how to validate your startup(idea). You will gain insight into your own entrepreneurial skills and develop your entrepreneurial vision. The program is provided by experts in the Brabant startup ecosystem. \nRegister here  \nDates: 12\, 19\, 21 April \nTime: 18h-21h \nLocation: Claudius Prinsenlaan 12\, Breda
URL:https://www.startupagenda.nl/event/customer-discovery-program-2/
LOCATION:B’wise\, Claudius Prinsenlaan 12\, Breda\, 4811 DJ\, Netherlands
CATEGORIES:Live Events,Workshops
ATTACH;FMTTYPE=image/png:https://www.startupagenda.nl/wp-content/uploads/2022/03/Screenshot-2022-03-14-at-10.55.52.png
END:VEVENT
BEGIN:VEVENT
DTSTART;TZID=Europe/Paris:20220314T110000
DTEND;TZID=Europe/Paris:20220314T120000
DTSTAMP:20260423T120649
CREATED:20220314T084051Z
LAST-MODIFIED:20220314T090756Z
UID:6952-1647255600-1647259200@www.startupagenda.nl
SUMMARY:'s Hertogenbosch Duurzame Challenge
DESCRIPTION:Het klimaat verandert en dit zorgt voor de grootste uitdaging allertijden. Overheden\, burgers\, bedrijven en onderwijsinstelling staan de komende jaren voor de complexe opgave om samen te werken aan een duurzame samenleving. Wij zijn op zoek naar ondernemende studenten van HAS\, Koning Willem I\, JADS en Avans die kunnen helpen met de volgende challenge: \n“Hoe kan jouw concept of product een impactvolle bijdrage leveren aan de duurzame Bossche samenleving?”  \nGedurende de challenge ga jij of je team aan de slag met het creëren van een duurzaam concept of product. Werk jouw (creatieve) idee uit tot een concrete businesscase en wie weet win jij de 2022 Bossche Duurzame Challenge! \n\nProgramma \n19-04-2022 16:00-17:00\nKick-off\nAvans Hogeschool\, Onderwijsboulevard 215\, ‘s-Hertogenbosch \n13-05-2022 13:00-15:00\nCo-creatie sessie \n25-05-2022 8:00-18:00\nInlevermoment\nonline \n03-06-2022 14:00-16:00\nPrijsuitreiking\nKoning Willem I College\, Vlijmenseweg 2\, ‘s-Hertogenbosch
URL:https://www.startupagenda.nl/event/s-hertogenbosch-duurzame-challenge/
CATEGORIES:Live Events
ATTACH;FMTTYPE=image/png:https://www.startupagenda.nl/wp-content/uploads/2022/03/Screenshot-2022-03-14-at-10.33.27.png
END:VEVENT
BEGIN:VEVENT
DTSTART;VALUE=DATE:20220315
DTEND;VALUE=DATE:20220316
DTSTAMP:20260423T120649
CREATED:20220104T090337Z
LAST-MODIFIED:20220304T031316Z
UID:6006-1647302400-1647388799@www.startupagenda.nl
SUMMARY:Tilburg University Challenge: Kick-Off
DESCRIPTION:Kick-Off Event with participants and partners. Get to know your fellow competitors and the partner network during Meet & Greet. Learn about the do’s and dont’s during the contest. \n\n\n“Serving and enhancing the society to help citizens” is what drives Tilburg University. In order to understand society\, it is necessary to be actively and consciously involved in it. This philosophy is the basis of what the university wants to contribute and is reflected in the various areas of the educational program and activities. Throughout their study\, students of Tilburg University are taught how to solve numerous social challenges by providing them with a solid basis of interdisciplinary skills\, perseverance\, and an entrepreneurial mindset. Crucial for this is the link with ‘real-life’; the connection between the academic world and the industry\, public sector and social organizations. By continuously cooperating with companies and governments from the Netherlands and abroad\, Tilburg University and its students are capable of combining high-quality knowledge and as a result\, find solutions for tomorrow’s problems. \n\n\n\n\n\nKick-Off Event with participants and partners\nGet to know your fellow competitors and the partner network during Meet & Greet\nLearn about the do’s and dont’s during the contest\n\nRegister before the 15th of March if you would like to participate in the Meet & Greet (get to know coaches and teams.
URL:https://www.startupagenda.nl/event/tilburg-university-challenge-kick-off/
CATEGORIES:Live Events
ATTACH;FMTTYPE=image/png:https://www.startupagenda.nl/wp-content/uploads/2022/02/Screenshot-2022-02-18-at-09.39.42.png
END:VEVENT
BEGIN:VEVENT
DTSTART;TZID=Europe/Paris:20220314T110000
DTEND;TZID=Europe/Paris:20220314T120000
DTSTAMP:20260423T120649
CREATED:20220314T084051Z
LAST-MODIFIED:20220314T090756Z
UID:6952-1647255600-1647259200@www.startupagenda.nl
SUMMARY:'s Hertogenbosch Duurzame Challenge
DESCRIPTION:Het klimaat verandert en dit zorgt voor de grootste uitdaging allertijden. Overheden\, burgers\, bedrijven en onderwijsinstelling staan de komende jaren voor de complexe opgave om samen te werken aan een duurzame samenleving. Wij zijn op zoek naar ondernemende studenten van HAS\, Koning Willem I\, JADS en Avans die kunnen helpen met de volgende challenge: \n“Hoe kan jouw concept of product een impactvolle bijdrage leveren aan de duurzame Bossche samenleving?”  \nGedurende de challenge ga jij of je team aan de slag met het creëren van een duurzaam concept of product. Werk jouw (creatieve) idee uit tot een concrete businesscase en wie weet win jij de 2022 Bossche Duurzame Challenge! \n\nProgramma \n19-04-2022 16:00-17:00\nKick-off\nAvans Hogeschool\, Onderwijsboulevard 215\, ‘s-Hertogenbosch \n13-05-2022 13:00-15:00\nCo-creatie sessie \n25-05-2022 8:00-18:00\nInlevermoment\nonline \n03-06-2022 14:00-16:00\nPrijsuitreiking\nKoning Willem I College\, Vlijmenseweg 2\, ‘s-Hertogenbosch
URL:https://www.startupagenda.nl/event/s-hertogenbosch-duurzame-challenge/
CATEGORIES:Live Events
ATTACH;FMTTYPE=image/png:https://www.startupagenda.nl/wp-content/uploads/2022/03/Screenshot-2022-03-14-at-10.33.27.png
END:VEVENT
BEGIN:VEVENT
DTSTART;TZID=Europe/Paris:20220308T190000
DTEND;TZID=Europe/Paris:20220308T200000
DTSTAMP:20260423T120649
CREATED:20220303T123904Z
LAST-MODIFIED:20220303T123904Z
UID:6881-1646766000-1646769600@www.startupagenda.nl
SUMMARY:Business Talks
DESCRIPTION:“Sell me this pen!” \nKom samen met jonge gemotiveerde ondernemers en leer meer over ondernemerschap en sales op 8 maart bij het Business Talks Netwerk Evenement in Tilburg. \nDe gastspreker van de avond\, Michiel van Drunen zal over zijn avonturen als ondernemer vertellen en je lessen meegeven uit de sales. Michiel is in zijn twintiger jaren gestart als investeringsmakelaar. Ondertussen is hij al 29 jaar ondernemer en heeft hij verschillende bedrijven opgestart.
URL:https://www.startupagenda.nl/event/business-talks/
CATEGORIES:Live Events
ATTACH;FMTTYPE=image/png:https://www.startupagenda.nl/wp-content/uploads/2022/03/Screenshot-2022-03-03-at-14.32.18.png
END:VEVENT
BEGIN:VEVENT
DTSTART;VALUE=DATE:20220305
DTEND;VALUE=DATE:20220307
DTSTAMP:20260423T120649
CREATED:20220221T092828Z
LAST-MODIFIED:20220221T092828Z
UID:6770-1646438400-1646611199@www.startupagenda.nl
SUMMARY:Citizen Data Hackathon - Eindhoven StadsLab
DESCRIPTION:Making tools for curious people – learning to dance with data\nDate: 5-6 March 2022 \nLocation: Stadslab Eindhoven – Gasfabriek 6 (NRE) \nHelp Citizens observe\, research & develop:\n– Participation in the digital realm\n– Creative sustainable transitions in circularity\n– Cultural futures for everybody \nCan you think of AR to improve neighborhood safety\, or a social app to share resources? Or make a local network for optimal human connectivity\, or pimp you bike for data transport?\nCreative concepts and smart applications is what we expect to see at the end of this Hackathon. And you can contribute to make this a life-changing experience!\nExperts and coaches present and explain how data can be implemented to make your ideas a reality. \nBoldly go where no one has gone before! \nPrizes are € 1000 in cash!\n1st prize: € 600\n2nd prize: € 400\nGoodie bags\, gadgets and vouchers for all. \nExamples of Tools for Citizen Data:\nDigital Social Innovation Ideas Bank (PDF 4 MB)\nCitizen Data Lab addressing local issues through participatory data practices\nThe Copenhagen Wheel bike wheel with sensors\nRoadbounce detector register holes in the road\nAireas Air measurement real time sensor data \nParticipate and join this endeavor to explore\, build and hack together with fellow engineers\, designers\, artists\, entrepreneurs\, professionals\, students.\nFree drinks (lots of coffee)\, lunches and buffet \nRegister free as an individual (teams are allowed) to claim your seat and share your competencies here. \nProgram Saturday March 5:\n\n10:00 Introduction theme and challenges\n11:00 Concepts & team clustering\n12:00 Preliminary hacking\n13:00 Project pitches / lunch\n14:00 Continued hacking\n16:00 Lightning talk\n18:00 Eat (buffet)\, drink\, hack\, sleep\n\nProgram Sunday March 6:\n\n10:00 Prolonged hacking\n13:00 Eat\, drink\, hack\n16:00 Prototype presentations\n17:00 Prize ceremony & drinks
URL:https://www.startupagenda.nl/event/citizen-data-hackathon-eindhoven-stadslab/
LOCATION:Gasfabriek 6 (NRE)\, Eindhoven\, Netherlands
CATEGORIES:Live Events
ATTACH;FMTTYPE=image/png:https://www.startupagenda.nl/wp-content/uploads/2022/02/Screenshot-2022-02-21-at-11.24.44.png
END:VEVENT
BEGIN:VEVENT
DTSTART;TZID=Europe/Paris:20220302T163000
DTEND;TZID=Europe/Paris:20220302T180000
DTSTAMP:20260423T120649
CREATED:20220203T140655Z
LAST-MODIFIED:20220214T144529Z
UID:6581-1646238600-1646244000@www.startupagenda.nl
SUMMARY:Masterclass: 101 Online Marketing by DoubleSmart
DESCRIPTION:Always wanted to know how to get more users or customers using SEO\, Google Ads\, Social Media Marketing and how to use Google Analytics to your advantage? \nThen join this masterclass
URL:https://www.startupagenda.nl/event/masterclass-101-online-marketing-by-doublesmart/
LOCATION:JADS\, Sint Janssingel 92\, Den Bosch\, Netherlands
CATEGORIES:Live Events
ATTACH;FMTTYPE=image/png:https://www.startupagenda.nl/wp-content/uploads/2022/02/Screenshot-2022-02-14-at-16.14.48.png
ORGANIZER;CN="JADS Playground":MAILTO:playground@jads.nl
END:VEVENT
END:VCALENDAR