BEGIN:VCALENDAR
VERSION:2.0
PRODID:-//Startup Agenda - ECPv6.15.18//NONSGML v1.0//EN
CALSCALE:GREGORIAN
METHOD:PUBLISH
X-ORIGINAL-URL:https://www.startupagenda.nl
X-WR-CALDESC:Events for Startup Agenda
REFRESH-INTERVAL;VALUE=DURATION:PT1H
X-Robots-Tag:noindex
X-PUBLISHED-TTL:PT1H
BEGIN:VTIMEZONE
TZID:UTC
BEGIN:STANDARD
TZOFFSETFROM:+0000
TZOFFSETTO:+0000
TZNAME:UTC
DTSTART:20240101T000000
END:STANDARD
END:VTIMEZONE
BEGIN:VTIMEZONE
TZID:Europe/Amsterdam
BEGIN:DAYLIGHT
TZOFFSETFROM:+0100
TZOFFSETTO:+0200
TZNAME:CEST
DTSTART:20210328T010000
END:DAYLIGHT
BEGIN:STANDARD
TZOFFSETFROM:+0200
TZOFFSETTO:+0100
TZNAME:CET
DTSTART:20211031T010000
END:STANDARD
BEGIN:DAYLIGHT
TZOFFSETFROM:+0100
TZOFFSETTO:+0200
TZNAME:CEST
DTSTART:20220327T010000
END:DAYLIGHT
BEGIN:STANDARD
TZOFFSETFROM:+0200
TZOFFSETTO:+0100
TZNAME:CET
DTSTART:20221030T010000
END:STANDARD
BEGIN:DAYLIGHT
TZOFFSETFROM:+0100
TZOFFSETTO:+0200
TZNAME:CEST
DTSTART:20230326T010000
END:DAYLIGHT
BEGIN:STANDARD
TZOFFSETFROM:+0200
TZOFFSETTO:+0100
TZNAME:CET
DTSTART:20231029T010000
END:STANDARD
END:VTIMEZONE
BEGIN:VEVENT
DTSTART;TZID=UTC:20250204T100000
DTEND;TZID=UTC:20250204T180000
DTSTAMP:20260419T143721
CREATED:20250124T074645Z
LAST-MODIFIED:20250124T074645Z
UID:9824-1738663200-1738692000@www.startupagenda.nl
SUMMARY:HAS Food Experience 2025
DESCRIPTION:Op 4 februari 2025 is het weer zover: de HAS Food Experience! Kom inspiratie opdoen en maak kennis met veelbelovende jonge talenten die (bijna) klaar zijn om de arbeidsmarkt te betreden. Het thema van dit jaar: Next food waves! \n\nKom naar hét impactvolle en inspirerende food event met vernieuwde oplossingen voor uitdagingen van vandaag én morgen. Bedacht en ontwikkeld door HAS studenten. \nWat mag je verwachten? Likeur gemaakt van verspild brood en fruit\, voeding die de kwaliteit van je huid verbetert\, bier speciaal voor vrouwen\, producten gemaakt van bananenschillen\, droge worst die je zelf thuis kan nadrogen en nog veel meer innovatieve concepten!
URL:https://www.startupagenda.nl/event/has-food-experience-2025/
CATEGORIES:AgriFood
ATTACH;FMTTYPE=image/jpeg:https://www.startupagenda.nl/wp-content/uploads/2025/01/has-food-experience-2025.jpg
END:VEVENT
BEGIN:VEVENT
DTSTART;TZID=Europe/Amsterdam:20221107T200000
DTEND;TZID=Europe/Amsterdam:20221107T233000
DTSTAMP:20260419T143721
CREATED:20220829T130924Z
LAST-MODIFIED:20230727T085830Z
UID:7673-1667851200-1667863800@www.startupagenda.nl
SUMMARY:Startup Drinks Brabant
DESCRIPTION:Join us for the Startup Drinks Brabant. \nWe meet up over a beer to meet new people\, meet new startups\, share experiences and have some fun. All in a very laid back and informal setting. \nWant to attend? Questions\, ideas\, complaints\, remarks\, suggestions\, jokes? info@roundone.ventures \n 
URL:https://www.startupagenda.nl/event/startup-drinks-brabant/
CATEGORIES:Funding,Network Event
ATTACH;FMTTYPE=image/png:https://www.startupagenda.nl/wp-content/uploads/2022/08/Screenshot-2022-08-29-at-17.06.43.png
ORGANIZER;CN="Round One":MAILTO:info@roundone.ventures
END:VEVENT
END:VCALENDAR